BEGIN:VCALENDAR
PRODID:-//eluceo/ical//2.0/EN
VERSION:2.0
CALSCALE:GREGORIAN
BEGIN:VEVENT
UID:e48988a9e12b609b042fc91f49e3b425
DTSTAMP:20260419T150140Z
SUMMARY:Zeugen der Grenze  rund um Lindewerra
DESCRIPTION:Diese anspruchsvolle Wanderung führt über die Teufelskanzel h
 inauf zum "Ministerblick". Gebietsbetreuer Gerhard Propf zeigt anhand hist
 orischer Bilder\, wie die Grenze einst das Ortsbild von Lindewerra prägte
 . Einkehr möglich.
URL:https://www.naturpark-ehw.de/veranstaltungen-reader/zeugen-der-grenze-r
 und-um-lindewerra
DTSTART:20250913T100000
DTEND:20250913T150000
LOCATION:Straße zur Einheit\, Lindewerra
END:VEVENT
BEGIN:VTIMEZONE
TZID:Europe/Berlin
BEGIN:DAYLIGHT
DTSTART:20250913T100000
TZNAME:CEST
TZOFFSETTO:+0200
TZOFFSETFROM:+0200
END:DAYLIGHT
END:VTIMEZONE
END:VCALENDAR
