BEGIN:VCALENDAR
PRODID:-//eluceo/ical//2.0/EN
VERSION:2.0
CALSCALE:GREGORIAN
BEGIN:VEVENT
UID:a2686c64cd34f3fdf2b2dc52baf8bbe9
DTSTAMP:20260425T135652Z
SUMMARY:Wo früher die Grenze war\, ist heute der Biber zu Hause
DESCRIPTION:Eine Wanderung gefüllt mit spannenden regionalen Geschichten r
 undum das Grünes Band Thüringen.\n4 h | 7 km | mit Anmeldung\nStiftung N
 aturschutz Thüringen\, Gebietsbetreuer Gerhard Propf | Tel.: 0361 5739312
 17 | veranstaltung@stiftung-naturschutz-thueringen.de | www.stiftung-natur
 schutz-thueringen.de
URL:https://www.naturpark-ehw.de/veranstaltungen-reader/wo-frueher-die-gren
 ze-war-ist-heute-der-biber-zu-hause
DTSTART:20231003T100000
DTEND:20231003T100000
LOCATION:An der Werrabrücke Lindewerra
END:VEVENT
BEGIN:VTIMEZONE
TZID:Europe/Berlin
BEGIN:DAYLIGHT
DTSTART:20231003T100000
TZNAME:CEST
TZOFFSETTO:+0200
TZOFFSETFROM:+0200
END:DAYLIGHT
END:VTIMEZONE
END:VCALENDAR
