BEGIN:VCALENDAR
PRODID:-//eluceo/ical//2.0/EN
VERSION:2.0
CALSCALE:GREGORIAN
BEGIN:VEVENT
UID:7c0c4e50df52e154f3001b1a73ce74ef
DTSTAMP:20260421T230011Z
SUMMARY:Wilder Mittwoch
DESCRIPTION:Wildkatzen\, Wald und andere wilde Wesen erleben.\n4 h | mit An
 meldung | Kosten auf Anfrage\nWildtierland Hainich gGmbH\, Wildkatzendorf 
 | Tel.: 036254 865180 | info@wildkatzendorf.de | www.wildkatzendorf.de
URL:https://www.naturpark-ehw.de/veranstaltungen-reader/wilder-mittwoch-344
 6
DTSTART:20231004T110000
DTEND:20231004T110000
LOCATION:Wildkatzenscheune\, Wildkatzendorf Hütscheroda\, Schloßstraße 4
 \, Hörselberg-Hainich\, OT Hütscheroda
END:VEVENT
BEGIN:VTIMEZONE
TZID:Europe/Berlin
BEGIN:DAYLIGHT
DTSTART:20231004T110000
TZNAME:CEST
TZOFFSETTO:+0200
TZOFFSETFROM:+0200
END:DAYLIGHT
END:VTIMEZONE
END:VCALENDAR
