BEGIN:VCALENDAR
PRODID:-//eluceo/ical//2.0/EN
VERSION:2.0
CALSCALE:GREGORIAN
BEGIN:VEVENT
UID:597f4731dd67838d24cc3ce4758d6c23
DTSTAMP:20260420T133122Z
SUMMARY:Wasser\, Wald und fromme Brüder
DESCRIPTION:Mit Nationalparkführer Ronny Thomas als "Bruder Tuck" auf der 
 Via Porta durch den Hainich. Geheimnisvoll erstreckt sich zwischen Unstrut
  und Werra ein riesiges Waldgebiet - der Hainich. Seine Geschichte(n)\, se
 ine Bedeutung und seine Schönheit sollen den Gästen auf dieser Wanderung
  nahe gebracht werden. Durch verschiedene Waldstrukturen\, vorbei an Gewä
 ssern\, an Zeichen aus vergangenen Jahrhunderten\, verläuft diese Wanderu
 ng auf dem alten Pilgerweg "Via Porta". Dieser Weg verbindet zwei Klöster
  in Thüringen und Bayern. Bruder Tuck war selbst schon auf verschiedenen 
 Pilgerwegen unterwegs und möchte hier mit Ihnen in den Wald\, den Weg und
  die Geschichte eintauchen. Die 8 km lange Strecke ist bequem bei geringem
  Schwierigkeitsgrad in 3 Stunden zu bewältigen. Festes Schuhwerk\, wetter
 feste Kleidung und ein Rucksack mit Verpflegung sind angebracht. Auf halbe
 r Strecke gibt es bei Bedarf auch die Möglichkeit einer Einkehr.
URL:https://www.naturpark-ehw.de/veranstaltungen-reader/wasser-wald-und-fro
 mme-brueder
DTSTART:20260515T100000
DTEND:20260515T130000
LOCATION:Wanderparkplatz Weberstedt
END:VEVENT
BEGIN:VTIMEZONE
TZID:Europe/Berlin
BEGIN:DAYLIGHT
DTSTART:20260515T100000
TZNAME:CEST
TZOFFSETTO:+0200
TZOFFSETFROM:+0200
END:DAYLIGHT
END:VTIMEZONE
END:VCALENDAR
