BEGIN:VCALENDAR
PRODID:-//eluceo/ical//2.0/EN
VERSION:2.0
CALSCALE:GREGORIAN
BEGIN:VEVENT
UID:85ca98d109b4133ce98e29eab867ccd9
DTSTAMP:20260420T133542Z
SUMMARY:Tour zu den Hauröder Klippen
DESCRIPTION:Am Sonntag\, dem 3. Mai laden wir alle die gern Wandern zu eine
 r Tour zu den Hauröder Klippen\, der Wilden Kirche und der Kalten Hufe ei
 n. Nach dem Forsthaus Mariental geht es zum Nordrand des Ohmberges\, von d
 em man einen hervorragenden Blick zum Kyffhäusergebirge und dem Harz hat.
  Durstige und hungrige Wanderer können sich im Eichsfeld Saloon erholen u
 nd stärken. Die Tour ist anspruchsvoll und beträgt etwa 13 km und erford
 ert festes Schuhwerk.   
URL:https://www.naturpark-ehw.de/veranstaltungen-reader/tour-zu-den-hauroed
 er-klippen
DTSTART:20260503T093000
DTEND:20260503T093000
LOCATION:Sportplatz von Haynrode
END:VEVENT
BEGIN:VTIMEZONE
TZID:Europe/Berlin
BEGIN:DAYLIGHT
DTSTART:20260503T093000
TZNAME:CEST
TZOFFSETTO:+0200
TZOFFSETFROM:+0200
END:DAYLIGHT
END:VTIMEZONE
END:VCALENDAR
