BEGIN:VCALENDAR
PRODID:-//eluceo/ical//2.0/EN
VERSION:2.0
CALSCALE:GREGORIAN
BEGIN:VEVENT
UID:78f4bf89f074e02b60421d6a2af75c89
DTSTAMP:20260422T053439Z
SUMMARY:Tierlaternenwanderung in gemütlicher Atmosphäre
DESCRIPTION:Basteln von Laternen mit anschließender Wildkatzenschaufütter
 ung und Laternenwanderung bei Sonnenuntergang
URL:https://www.naturpark-ehw.de/veranstaltungen-reader/tierlaternenwanderu
 ng-in-gemuetlicher-atmosphaere
DTSTART:20241103T150000
DTEND:20241103T170000
LOCATION:
END:VEVENT
BEGIN:VTIMEZONE
TZID:Europe/Berlin
BEGIN:STANDARD
DTSTART:20241103T150000
TZNAME:CET
TZOFFSETTO:+0100
TZOFFSETFROM:+0100
END:STANDARD
END:VTIMEZONE
END:VCALENDAR
