BEGIN:VCALENDAR
PRODID:-//eluceo/ical//2.0/EN
VERSION:2.0
CALSCALE:GREGORIAN
BEGIN:VEVENT
UID:9284c209e161419d89f56c5393013952
DTSTAMP:20260423T101325Z
SUMMARY:Stockmacherei
DESCRIPTION:Unser Ranger und Stockmacher Michael Geyer stellt das alte Hand
 werk vor – jeder Teilnehmer kann seinen eigenen Wanderstock mit nach Hau
 se nehmen! Alternativtermin 23.07.2024\, Naturparkzentrum Fürstenhagen
URL:https://www.naturpark-ehw.de/veranstaltungen-reader/stockmacherei-2
DTSTART:20240716T100000
DTEND:20240716T130000
LOCATION:Jugendherberge »Urwald-Life-Camp«\, Harsbergstr. 4\, Lauterbach
END:VEVENT
BEGIN:VTIMEZONE
TZID:Europe/Berlin
BEGIN:DAYLIGHT
DTSTART:20240716T100000
TZNAME:CEST
TZOFFSETTO:+0200
TZOFFSETFROM:+0200
END:DAYLIGHT
END:VTIMEZONE
END:VCALENDAR
