BEGIN:VCALENDAR
PRODID:-//eluceo/ical//2.0/EN
VERSION:2.0
CALSCALE:GREGORIAN
BEGIN:VEVENT
UID:2e8b6c221d42b82938bd691e567fad97
DTSTAMP:20260419T170706Z
SUMMARY:Sternenhimmel über dem Hainich
DESCRIPTION:Nachtwanderung mit Himmelsbeobachtung\, Märchen\, Geschichten 
 und allerlei Wissenswertes zum Sternenhimmel. Begleiten Sie die Naturparkf
 ührerin Susanne Merten auf eine magische Nachtwanderung durch den Hainich
  und entdecken Sie die Geheimnisse des Sternenhimmels. Lauschen Sie faszin
 ierenden Märchen und Geschichten\, während Sie die Sterne beobachten und
  Spannendes über das Universum erfahren. Ein unvergesslicher Abend voller
  Natur\, Wissen und himmlischer Magie erwartet Sie!
URL:https://www.naturpark-ehw.de/veranstaltungen-reader/sternenhimmel-ueber
 -dem-hainich
DTSTART:20250809T210000
DTEND:20250809T230000
LOCATION:
END:VEVENT
BEGIN:VTIMEZONE
TZID:Europe/Berlin
BEGIN:DAYLIGHT
DTSTART:20250809T210000
TZNAME:CEST
TZOFFSETTO:+0200
TZOFFSETFROM:+0200
END:DAYLIGHT
END:VTIMEZONE
END:VCALENDAR
