BEGIN:VCALENDAR
PRODID:-//eluceo/ical//2.0/EN
VERSION:2.0
CALSCALE:GREGORIAN
BEGIN:VEVENT
UID:215ce34ebe20b31d0f770745a2c946e5
DTSTAMP:20260423T100317Z
SUMMARY:Sanierung im Bestand - Innendämmung und alternative Heizsysteme
DESCRIPTION:Feierabend- Fachveranstaltung im Naturpark. Alle Hausbesitzer u
 nd Interessierte sind eingeladen\, sich an den Feierabend-Veranstaltungen 
 mit ihren Fragen zu beteiligen! Im Rahmen der Veranstaltungsreihe „Bauku
 ltur im Naturpark“ findet am Mittwoch\, den 25. März 2026\, von 18:00 b
 is 20:00 Uhr eine weitere Fachveranstaltung zum Thema „Sanierung im Best
 and - Innendämmung und alternative Heizsysteme“ im Naturparkzentrum Fü
 rstenhagen statt.
URL:https://www.naturpark-ehw.de/veranstaltungen-reader/sanierung-im-bestan
 d-innendaemmung-und-alternative-heizsysteme
DTSTART:20260325T180000
DTEND:20260325T200000
LOCATION:
END:VEVENT
BEGIN:VTIMEZONE
TZID:Europe/Berlin
BEGIN:STANDARD
DTSTART:20260325T180000
TZNAME:CET
TZOFFSETTO:+0100
TZOFFSETFROM:+0100
END:STANDARD
END:VTIMEZONE
END:VCALENDAR
