BEGIN:VCALENDAR
PRODID:-//eluceo/ical//2.0/EN
VERSION:2.0
CALSCALE:GREGORIAN
BEGIN:VEVENT
UID:a96b0c12978655d8032af959fbe16ed6
DTSTAMP:20260423T084019Z
SUMMARY:Pilze des Winters
DESCRIPTION:Winterpilz-Wanderung mit dem Pilzberater. Was werden wir finden
 ? Wenn es mild ist\, können wir auf dieser Winterpilz-Wanderung noch Pilz
 e finden. Welche Arten wachsen im Winter? Welche spezielle Eigenschaften h
 aben Winterpilze?
URL:https://www.naturpark-ehw.de/veranstaltungen-reader/pilze-des-winters-2
DTSTART:20251109T130000
DTEND:20251109T160000
LOCATION:Parkplatz Waldcafé Prinzenhaus\, Mühlhäuser Stadtwald
END:VEVENT
BEGIN:VTIMEZONE
TZID:Europe/Berlin
BEGIN:STANDARD
DTSTART:20251109T130000
TZNAME:CET
TZOFFSETTO:+0100
TZOFFSETFROM:+0100
END:STANDARD
END:VTIMEZONE
END:VCALENDAR
