BEGIN:VCALENDAR
PRODID:-//eluceo/ical//2.0/EN
VERSION:2.0
CALSCALE:GREGORIAN
BEGIN:VEVENT
UID:c3802a9e749c43eb8092caef8f48681b
DTSTAMP:20260421T225510Z
SUMMARY:Pflanzen helfen heilen
DESCRIPTION:Wissenswertes rund um unsere Gewürz- und Heilkräuter
URL:https://www.naturpark-ehw.de/veranstaltungen-reader/pflanzen-helfen-hei
 len
DTSTART:20240707T140000
DTEND:20240707T180000
LOCATION:Dorfstr 12\, Schönhagen
END:VEVENT
BEGIN:VTIMEZONE
TZID:Europe/Berlin
BEGIN:DAYLIGHT
DTSTART:20240707T140000
TZNAME:CEST
TZOFFSETTO:+0200
TZOFFSETFROM:+0200
END:DAYLIGHT
END:VTIMEZONE
END:VCALENDAR
