BEGIN:VCALENDAR
PRODID:-//eluceo/ical//2.0/EN
VERSION:2.0
CALSCALE:GREGORIAN
BEGIN:VEVENT
UID:e997cb257069831b1cf1713906990b63
DTSTAMP:20260423T100138Z
SUMMARY:Orchideen und Geschichte am Grünen Band
DESCRIPTION:Naturkundlich-geschichtliche Wanderung. Diese naturkundlich-ges
 chichtliche Wanderung führt uns am Grünen Band entlang. Wir werden versc
 hiedene Orchideenarten und andere seltene Pflanzen entdecken\, die hier ei
 nen Lebensraum gefunden haben. Außerdem wird uns eine Zeitzeugin von ihre
 m Leben an der ehemaligen deutsch-deutschen Grenze berichten.
URL:https://www.naturpark-ehw.de/veranstaltungen-reader/orchideen-und-gesch
 ichte-am-gruenen-band
DTSTART:20250531T100000
DTEND:20250531T133000
LOCATION:Parkplatz Braunrode (zwischen Grebendorf und Kella)
END:VEVENT
BEGIN:VTIMEZONE
TZID:Europe/Berlin
BEGIN:DAYLIGHT
DTSTART:20250531T100000
TZNAME:CEST
TZOFFSETTO:+0200
TZOFFSETFROM:+0200
END:DAYLIGHT
END:VTIMEZONE
END:VCALENDAR
