BEGIN:VCALENDAR
PRODID:-//eluceo/ical//2.0/EN
VERSION:2.0
CALSCALE:GREGORIAN
BEGIN:VEVENT
UID:ad7f3767882d0ce522bd9f12e3826cff
DTSTAMP:20260423T120320Z
SUMMARY:Orchideen im Naturpark - Verschoben!!
DESCRIPTION:Aus gesundheitlichen Gründen muss unser Vortrag am 20.02.2025 
 leider verschoben werden. Änderungen werden bekanntgegeben.\n \nEin Vort
 rag mit Arne Willenberg\, Mitarbeiter für Biotop- & Artenschutz im Naturp
 ark. Er nimmt Sie mit auf eine Entdeckungsreise durch die Vielfalt unserer
  heimischen Orchideenarten. Von der einzigartigen Bienenragwurz\, die mit 
 ihrem bienenähnlichen Aussehen Bestäuber anlockt\, über das zarte rote 
 Waldvögelein bis hin zum seltenen Frauenschuh - erfahren Sie interessante
  Fakten und Geschichten rund um diese beeindruckenden Pflanzen.
URL:https://www.naturpark-ehw.de/veranstaltungen-reader/orchideen-im-naturp
 ark
DTSTART:20250220T180000
DTEND:20250220T200000
LOCATION:Güldenes Stift 3\, Treffurt OT Falken
END:VEVENT
BEGIN:VTIMEZONE
TZID:Europe/Berlin
BEGIN:STANDARD
DTSTART:20250220T180000
TZNAME:CET
TZOFFSETTO:+0100
TZOFFSETFROM:+0100
END:STANDARD
END:VTIMEZONE
END:VCALENDAR
