BEGIN:VCALENDAR
PRODID:-//eluceo/ical//2.0/EN
VERSION:2.0
CALSCALE:GREGORIAN
BEGIN:VEVENT
UID:524e731391d6f8fd0fe905ffd87ea936
DTSTAMP:20260420T091705Z
SUMMARY:online Bärenpark Report
DESCRIPTION:Juni im Worbiser Projekt: Ein Muss für alle Bärenparkliebhabe
 r und jeden\, der es noch werden will.
URL:https://www.naturpark-ehw.de/veranstaltungen-reader/online-baerenpark-r
 eport-kopie
DTSTART:20240706T140000
DTEND:20240706T150000
LOCATION:online
END:VEVENT
BEGIN:VTIMEZONE
TZID:Europe/Berlin
BEGIN:DAYLIGHT
DTSTART:20240706T140000
TZNAME:CEST
TZOFFSETTO:+0200
TZOFFSETFROM:+0200
END:DAYLIGHT
END:VTIMEZONE
END:VCALENDAR
