BEGIN:VCALENDAR
PRODID:-//eluceo/ical//2.0/EN
VERSION:2.0
CALSCALE:GREGORIAN
BEGIN:VEVENT
UID:663b8f228b08fca52eaacff63b63203a
DTSTAMP:20260424T085536Z
SUMMARY:online Bärenpark Report
DESCRIPTION:April im Worbiser Projekt: Ein Muss für alle Bärenparkliebhab
 er und jeden\, der es noch werden will. 
URL:https://www.naturpark-ehw.de/veranstaltungen-reader/online-baerenpark-r
 eport-2
DTSTART:20240427T140000
DTEND:20240427T150000
LOCATION:online
END:VEVENT
BEGIN:VTIMEZONE
TZID:Europe/Berlin
BEGIN:DAYLIGHT
DTSTART:20240427T140000
TZNAME:CEST
TZOFFSETTO:+0200
TZOFFSETFROM:+0200
END:DAYLIGHT
END:VTIMEZONE
END:VCALENDAR
