BEGIN:VCALENDAR
PRODID:-//eluceo/ical//2.0/EN
VERSION:2.0
CALSCALE:GREGORIAN
BEGIN:VEVENT
UID:2862916b9d5f6f8c29262b99c746f073
DTSTAMP:20260425T135524Z
SUMMARY:Obstbaumschnittkurs hochstämmige Altbäume
DESCRIPTION:Einführung in den Schnitt ausgewachsener\, hochstämmiger Obst
 bäume. Voraussetzung für NALAP-Förderung Streuobstpflege.Anmeldung bis 
 05.01.
URL:https://www.naturpark-ehw.de/veranstaltungen-reader/obstbaumschnitt-in-
 streuobstwiesen
DTSTART:20240112T160000
DTEND:20240114T120000
LOCATION:Veranstaltungsort Tüngeda
END:VEVENT
BEGIN:VTIMEZONE
TZID:Europe/Berlin
BEGIN:STANDARD
DTSTART:20240112T160000
TZNAME:CET
TZOFFSETTO:+0100
TZOFFSETFROM:+0100
END:STANDARD
END:VTIMEZONE
END:VCALENDAR
