BEGIN:VCALENDAR
PRODID:-//eluceo/ical//2.0/EN
VERSION:2.0
CALSCALE:GREGORIAN
BEGIN:VEVENT
UID:1d6f7f486b841994bbf4a62ddf0929d1
DTSTAMP:20260420T132846Z
SUMMARY:Nistkasten-Kontrolle am Gut Beinrode
DESCRIPTION:Begleite uns zur Nistkasten-Kontrolle am Gut Beinrode und tauch
 e ein in die faszinierende Welt der Vögel. Gemeinsam öffnen wir die Nist
 kästen\, dokumentieren die Brut und erfahren Spannendes über das Leben u
 nserer heimischen Arten. Ein besonderes Highlight: Du kannst miterleben\, 
 wie Jungvögel beringt werden – ein einzigartiger Moment ganz nah dran. 
 Wenn das Wetter mitspielt und mit etwas Glück\, werden wir auch erwachsen
 e Vögel fangen und beringen. Ein intensives Naturerlebnis für alle\, die
  genauer hinschauen möchten.
URL:https://www.naturpark-ehw.de/veranstaltungen-reader/nistkasten-kontroll
 e-am-gut-beinrode
DTSTART:20260510T090000
DTEND:20260510T110000
LOCATION:Am Gut Beinrode 3\, 37327 Leinefelde-Worbis
END:VEVENT
BEGIN:VTIMEZONE
TZID:Europe/Berlin
BEGIN:DAYLIGHT
DTSTART:20260510T090000
TZNAME:CEST
TZOFFSETTO:+0200
TZOFFSETFROM:+0200
END:DAYLIGHT
END:VTIMEZONE
END:VCALENDAR
