BEGIN:VCALENDAR
PRODID:-//eluceo/ical//2.0/EN
VERSION:2.0
CALSCALE:GREGORIAN
BEGIN:VEVENT
UID:dec147391dc99aa8686b22e463cd1a75
DTSTAMP:20260422T041102Z
SUMMARY:Naturkundliche Wanderung zum Langen Tag der Natur
DESCRIPTION:Der Biologe Arne Willenberg erklärt die Fauna\, Flora und Vege
 tation sowie ökologische Zusammenhänge.
URL:https://www.naturpark-ehw.de/veranstaltungen-reader/naturkundliche-wand
 erung-zum-langen-tag-der-natur
DTSTART:20240608T100000
DTEND:20240608T140000
LOCATION:Unstrut-Quelle\, Kefferhausen
END:VEVENT
BEGIN:VTIMEZONE
TZID:Europe/Berlin
BEGIN:DAYLIGHT
DTSTART:20240608T100000
TZNAME:CEST
TZOFFSETTO:+0200
TZOFFSETFROM:+0200
END:DAYLIGHT
END:VTIMEZONE
END:VCALENDAR
