BEGIN:VCALENDAR
PRODID:-//eluceo/ical//2.0/EN
VERSION:2.0
CALSCALE:GREGORIAN
BEGIN:VEVENT
UID:34cbe4fbebf0ed629313dbd35adb790d
DTSTAMP:20260421T225034Z
SUMMARY:Naturerlebnistage im Hainich
DESCRIPTION:Gehen Sie mit auf eine Entdeckungsreise in den Hainich
URL:https://www.naturpark-ehw.de/veranstaltungen-reader/naturerlebnistage-i
 m-hainich
DTSTART:20240419T000000
DTEND:20240421T000000
LOCATION:
END:VEVENT
BEGIN:VTIMEZONE
TZID:Europe/Berlin
BEGIN:DAYLIGHT
DTSTART:20240419T000000
TZNAME:CEST
TZOFFSETTO:+0200
TZOFFSETFROM:+0200
END:DAYLIGHT
END:VTIMEZONE
END:VCALENDAR
