BEGIN:VCALENDAR
PRODID:-//eluceo/ical//2.0/EN
VERSION:2.0
CALSCALE:GREGORIAN
BEGIN:VEVENT
UID:b6dcf647d2b38f4508617a769bee37d5
DTSTAMP:20260424T103151Z
SUMMARY:Natur-Kräuterküche am Kerbschenberg
DESCRIPTION:Eine Frühjahr-Kräuter-Koch-Wanderung rund um den Kerbschen Be
 rg mit sammeln und kochen. (inklusive Essen und Rezepte). Mitzubringen sin
 d kleine Sammelkörbe. Kräuterinteressierte\, Eltern und Großeltern mit 
 Kindern ab 8 Jahren sind eingeladen mit kleinen Sammelkörben loszuziehen\
 , sich mit den Traditionen und Bräuchen unserer Vorfahren vertraut zu mac
 hen. Aus den gesammelten Kräutern kochen wir gemeinsam ein leckeres Kräu
 tersüppchen und andere gesunde Köstlichkeiten. Kochrezepte und Gesundhei
 tsinfos zu den Kräutern können kostenfrei mitgenommen werde. Sammelkörb
 chen bitte mitbringen!
URL:https://www.naturpark-ehw.de/veranstaltungen-reader/natur-kraeuterkuech
 e-am-kerbschenberg-2
DTSTART:20250516T140000
DTEND:20250516T180000
LOCATION:Kefferhäuser Str. 24\, Dingelstädt
END:VEVENT
BEGIN:VTIMEZONE
TZID:Europe/Berlin
BEGIN:DAYLIGHT
DTSTART:20250516T140000
TZNAME:CEST
TZOFFSETTO:+0200
TZOFFSETFROM:+0200
END:DAYLIGHT
END:VTIMEZONE
END:VCALENDAR
