BEGIN:VCALENDAR
PRODID:-//eluceo/ical//2.0/EN
VERSION:2.0
CALSCALE:GREGORIAN
BEGIN:VEVENT
UID:ad3860ab246586e4da2be52ba2fb048b
DTSTAMP:20260420T091847Z
SUMMARY:Mit dem/der Ranger/in auf dem TOP-Wanderweg Panorama Effelder unter
 wegs
DESCRIPTION:Mit einem/einer Ranger/in den Naturpark Eichsfeld-Hainich-Werra
 tal entdecken. Erfahren Sie Spannendes über den Naturpark und seine Pflan
 zen\, Tiere\, Orte und Menschen.\n4 h | 9 km | Anmeldung bis 21.09.\nNatur
 park Eichsfeld-Hainich-Werratal | Tel.: 0361 57 3915 010 | poststelle.ehw@
 nnl.thueringen.de | www.naturpark-ehw.de
URL:https://www.naturpark-ehw.de/veranstaltungen-reader/mit-dem-der-ranger-
 in-auf-dem-top-wanderweg-panorama-effelder-unterwegs
DTSTART:20230924T100000
DTEND:20230924T100000
LOCATION:Parkplatz am Eichsfelder Dom\, Effelder
END:VEVENT
BEGIN:VTIMEZONE
TZID:Europe/Berlin
BEGIN:DAYLIGHT
DTSTART:20230924T100000
TZNAME:CEST
TZOFFSETTO:+0200
TZOFFSETFROM:+0200
END:DAYLIGHT
END:VTIMEZONE
END:VCALENDAR
