BEGIN:VCALENDAR
PRODID:-//eluceo/ical//2.0/EN
VERSION:2.0
CALSCALE:GREGORIAN
BEGIN:VEVENT
UID:9233d701ed9f08a4590501abf5079f30
DTSTAMP:20260420T160639Z
SUMMARY:Lavendelidylle: Von Uder in die Provence des Eichsfeldes
DESCRIPTION:Ein Stück Provence gibt es auch im Eichsfeld – und genau dor
 thin führt die dritte Wanderung der Saison. Die Tour beginnt in Uder\, wo
  die beiden Wanderführer Angelika Werner und Stephan Sommer die Teilnehme
 r begrüßen\, um mit ihnen das im 16. Jahrhundert erbaute Knorr`sche Haus
  zu besichtigen. Das älteste Gebäude der Gemeinde wurde umfassend sanier
 t und spiegelt eindrucksvoll die Geschichte der Ortschaft wider. Von dort 
 führt der Weg stetig bergan zum Wessenblick\, einem Aussichtspunkt am 4-L
 änderblick-Panoramaweg\, der einen imposanten Ausblick über die Landscha
 ft bietet. Anschließend geht es entlang des Höhbergs auf dem Panoramaweg
  weiter nach Thalwenden\, dem früheren Dorf der Handelsreisenden.\nUnterh
 alten von Geschichten\, Sagen und Wissenswertem aus der Region\, führt di
 e Tour auf gut ausgebauten Wegen schließlich in den malerisch gelegenen O
 rt Schönhagen. Hier endet die Wanderung mit einem ganz besonderen Höhepu
 nkt: einem violetten Lavendelfeld\, dessen Duft schon von Weitem wahrnehmb
 ar ist und einen Hauch Provence ins Eichsfeld zaubert. Vor Ort berichten d
 ie Eigentümer von der Entstehung des Feldes\, der Arbeit mit den Bienenv
 ölkern und ihren Plänen für die Zukunft. Produkte wie Honig\, Duftsäck
 chen und aromatischer Gin können erworben werden. Abgerundet wird die Wan
 dertour durch eine gemütliche Kaffeetafel im Grünen zum Selbstkostenprei
 s – eine wohltuende Stärkung nach einem erlebnisreichen Tag.\nWanderfü
 hrer: Naturparkführerin Angelika Werner\, Stephan Sommer
URL:https://www.naturpark-ehw.de/veranstaltungen-reader/lavendelidylle-von-
 uder-in-die-provence-des-eichsfeldes
DTSTART:20260621T103000
DTEND:20260621T160000
LOCATION:Uder
END:VEVENT
BEGIN:VTIMEZONE
TZID:Europe/Berlin
BEGIN:DAYLIGHT
DTSTART:20260621T103000
TZNAME:CEST
TZOFFSETTO:+0200
TZOFFSETFROM:+0200
END:DAYLIGHT
END:VTIMEZONE
END:VCALENDAR
