BEGIN:VCALENDAR
PRODID:-//eluceo/ical//2.0/EN
VERSION:2.0
CALSCALE:GREGORIAN
BEGIN:VEVENT
UID:29395075356bbf3606882f830d17a0e2
DTSTAMP:20260423T082829Z
SUMMARY:Kreuzstieg-Runde zum Hülfensberg ab Geismar
DESCRIPTION:Von Geismar aus geht es durch ein romantisches Tal zunächst hi
 nauf nach Döringsdorf. Nach einem Abstecher zum Eichsfelder Kreuz und der
  Kapelle der Einheit auf der hessischen Seite der ehemaligen Grenze führt
  der TOP-Wanderweg durch Bebendorf und von dort steil hinauf zum Hülfensb
 erg-Plateau. Nach dem Besuch der Wallfahrtskirche wandern wir entlang der 
 Kreuzwegstationen wieder hinunter nach Geismar.
URL:https://www.naturpark-ehw.de/veranstaltungen-reader/kreuzstieg-runde-zu
 m-huelfensberg-ab-geismar
DTSTART:20260509T130000
DTEND:20260509T160000
LOCATION:Bahnhofstraße 24\, 37308 Geismar
END:VEVENT
BEGIN:VTIMEZONE
TZID:Europe/Berlin
BEGIN:DAYLIGHT
DTSTART:20260509T130000
TZNAME:CEST
TZOFFSETTO:+0200
TZOFFSETFROM:+0200
END:DAYLIGHT
END:VTIMEZONE
END:VCALENDAR
