BEGIN:VCALENDAR
PRODID:-//eluceo/ical//2.0/EN
VERSION:2.0
CALSCALE:GREGORIAN
BEGIN:VEVENT
UID:f3cc8967d782ac293b72bcf888c39d1d
DTSTAMP:20260420T064930Z
SUMMARY:Indian Summer – Wanderung durch den Hainich
DESCRIPTION:Farbexplosionen des bunten Herbstwaldes
URL:https://www.naturpark-ehw.de/veranstaltungen-reader/indian-summer-wande
 rung-durch-den-hainich
DTSTART:20241012T103000
DTEND:20241012T153000
LOCATION:
END:VEVENT
BEGIN:VTIMEZONE
TZID:Europe/Berlin
BEGIN:DAYLIGHT
DTSTART:20241012T103000
TZNAME:CEST
TZOFFSETTO:+0200
TZOFFSETFROM:+0200
END:DAYLIGHT
END:VTIMEZONE
END:VCALENDAR
