BEGIN:VCALENDAR
PRODID:-//eluceo/ical//2.0/EN
VERSION:2.0
CALSCALE:GREGORIAN
BEGIN:VEVENT
UID:3dbb5c9a99301ca26610511618b3b351
DTSTAMP:20260425T135658Z
SUMMARY:Holzbewohnende Pilze
DESCRIPTION:Tauchen Sie ein in die spannende Welt der Baum-Pilz-Beziehungen
 ! Erfahren Sie\, wie Bäume und Pilze durch Symbiosen wie die Mykorrhiza e
 ng miteinander verbunden sind und voneinander profitieren. Entdecken Sie d
 ie faszinierenden Aufgaben der holzbewohnenden Pilze\, die das ganze Jahr 
 über zu finden sind\, und lernen Sie\, wie Weiß- und Braunfäule das Leb
 en der Wälder prägen. Ein faszinierender Einblick in ein oft unsichtbare
 s\, aber lebenswichtiges Zusammenspiel der Natur!
URL:https://www.naturpark-ehw.de/veranstaltungen-reader/holzbewohnende-pilz
 e-3
DTSTART:20260412T130000
DTEND:20260412T160000
LOCATION:Mühlhausen
END:VEVENT
BEGIN:VTIMEZONE
TZID:Europe/Berlin
BEGIN:DAYLIGHT
DTSTART:20260412T130000
TZNAME:CEST
TZOFFSETTO:+0200
TZOFFSETFROM:+0200
END:DAYLIGHT
END:VTIMEZONE
END:VCALENDAR
