BEGIN:VCALENDAR
PRODID:-//eluceo/ical//2.0/EN
VERSION:2.0
CALSCALE:GREGORIAN
BEGIN:VEVENT
UID:74b2a4ed0487f8c2a288b5354ccd0081
DTSTAMP:20260421T225551Z
SUMMARY:Herbstwaldbaden
DESCRIPTION:Anleitung zum Waldbaden. Der Herbst kitzelt in der Nase mit dem
  unvergleichlichen Geruch nach Moos und Pilzen\, die Blätter rascheln unt
 er unseren Füßen\, während die Farbenpracht des Indian Summer uns ehrf
 ürchtig staunen lässt.Waldbaden – das bedeutet sich selbst und die Nat
 ur mit allen Sinnen wahrzunehmen. Der Blutdruck sinkt und das Stresslevel 
 nimmt ab. Nehmen Sie sich diese Zeit für sich und gönnen Sie Ihrer Seele
  eine Auszeit.
URL:https://www.naturpark-ehw.de/veranstaltungen-reader/herbstwaldbaden
DTSTART:20251025T100000
DTEND:20251025T130000
LOCATION:
END:VEVENT
BEGIN:VTIMEZONE
TZID:Europe/Berlin
BEGIN:DAYLIGHT
DTSTART:20251025T100000
TZNAME:CEST
TZOFFSETTO:+0200
TZOFFSETFROM:+0200
END:DAYLIGHT
END:VTIMEZONE
END:VCALENDAR
