BEGIN:VCALENDAR
PRODID:-//eluceo/ical//2.0/EN
VERSION:2.0
CALSCALE:GREGORIAN
BEGIN:VEVENT
UID:507e809f99f149f797ffabdb8a6a0515
DTSTAMP:20260421T225729Z
SUMMARY:Herbstmärchen im Nationalpark Hainich
DESCRIPTION:Was passt eigentlich besser zusammen\, als ein uriger alter Wal
 d und fantasievolle Märchen? "Es war einmal ... in den alten Zeiten\, als
  das Wünschen noch geholfen hat\, ... in einem Wald\, so alt wie die Welt
  selbst ...in einer Zeit\, als die Dunkelheit das Licht fürchtete ... in 
 einer Zeit\, wo der Wind die Lieder der Ahnen singt ... daaaah gab es den 
 Herbst noch gar nicht.\nMit Anmeldung
URL:https://www.naturpark-ehw.de/veranstaltungen-reader/herbstmaerchen-im-n
 ationalpark-hainich
DTSTART:20241013T100000
DTEND:20241013T120000
LOCATION:Wanderparkplatz Craulaer Creuz
END:VEVENT
BEGIN:VTIMEZONE
TZID:Europe/Berlin
BEGIN:DAYLIGHT
DTSTART:20241013T100000
TZNAME:CEST
TZOFFSETTO:+0200
TZOFFSETFROM:+0200
END:DAYLIGHT
END:VTIMEZONE
END:VCALENDAR
