BEGIN:VCALENDAR
PRODID:-//eluceo/ical//2.0/EN
VERSION:2.0
CALSCALE:GREGORIAN
BEGIN:VEVENT
UID:f178ed63fb748bd8d4a96f510627010d
DTSTAMP:20260421T021056Z
SUMMARY:Herbst-Pirsch
DESCRIPTION:Bei einer Wanderung sammeln wir Naturmaterialien und basteln im
  Anschluss Waldtiere.\n3 h | Anmeldung bis 02.10. | Kosten: Material 3 €
 \nNaturpark Eichsfeld-Hainich-Werratal | Tel.: 0361 57 3915 010 | poststel
 le.ehw@nnl.thueringen.de | www.naturpark-ehw.de
URL:https://www.naturpark-ehw.de/veranstaltungen-reader/herbst-pirsch
DTSTART:20231005T100000
DTEND:20231005T100000
LOCATION:Wanderparkplatz Harsberg\, Harsbergstr. 4\, Lauterbach
END:VEVENT
BEGIN:VTIMEZONE
TZID:Europe/Berlin
BEGIN:DAYLIGHT
DTSTART:20231005T100000
TZNAME:CEST
TZOFFSETTO:+0200
TZOFFSETFROM:+0200
END:DAYLIGHT
END:VTIMEZONE
END:VCALENDAR
