BEGIN:VCALENDAR
PRODID:-//eluceo/ical//2.0/EN
VERSION:2.0
CALSCALE:GREGORIAN
BEGIN:VEVENT
UID:991d5b15831daa0c1184b8927fe6d70f
DTSTAMP:20260423T082055Z
SUMMARY:"Grüne Neune" am Warteberg
DESCRIPTION:Lernen Sie die Frühlingskraft\, alte Bräuche und die Heilkraf
 t der „Gründonnerstag Kräuter“ kennen.
URL:https://www.naturpark-ehw.de/veranstaltungen-reader/gruene-neune-am-mit
 telpunkt
DTSTART:20240525T150000
DTEND:20240525T180000
LOCATION:Besucherparkplatz „Mittelpunkt Deutschlands“\, Flinsberg
END:VEVENT
BEGIN:VTIMEZONE
TZID:Europe/Berlin
BEGIN:DAYLIGHT
DTSTART:20240525T150000
TZNAME:CEST
TZOFFSETTO:+0200
TZOFFSETFROM:+0200
END:DAYLIGHT
END:VTIMEZONE
END:VCALENDAR
