BEGIN:VCALENDAR
PRODID:-//eluceo/ical//2.0/EN
VERSION:2.0
CALSCALE:GREGORIAN
BEGIN:VEVENT
UID:124b60cac458ae5eb51e3ca03d300e02
DTSTAMP:20260423T103241Z
SUMMARY:Grün sind die Träume\, im Herzen der Bäume – der naturnaher Wa
 ld
DESCRIPTION:Geführte Herbstwanderung auf dem Wanderweg Craulaer Kreuz / We
 lterbepfad im Nationalpark Hainich.\n4–5 h | 7\,5 km | Anmeldung bis 30.
 09. | Kosten: 12 €\nNaturparkführer Andreas Leffler | www.wesensart.net
 /waldnative/veranstaltungen | waldnative@posteo.de
URL:https://www.naturpark-ehw.de/veranstaltungen-reader/gruen-sind-die-trae
 ume-im-herzen-der-baeume-der-naturnaher-wald
DTSTART:20231014T100000
DTEND:20231014T100000
LOCATION:Wanderparkplatz am Craulaer Kreuz\, Hörselberg-Hainich OT Craula
END:VEVENT
BEGIN:VTIMEZONE
TZID:Europe/Berlin
BEGIN:DAYLIGHT
DTSTART:20231014T100000
TZNAME:CEST
TZOFFSETTO:+0200
TZOFFSETFROM:+0200
END:DAYLIGHT
END:VTIMEZONE
END:VCALENDAR
