BEGIN:VCALENDAR
PRODID:-//eluceo/ical//2.0/EN
VERSION:2.0
CALSCALE:GREGORIAN
BEGIN:VEVENT
UID:5ffa6f274eb3c480de041ed977998316
DTSTAMP:20260420T153947Z
SUMMARY:Geführte Wanderung um die Burg Hanstein
DESCRIPTION:Anlässlich der Ersterwähnung des Hansteiner Burgfriedens vor 
 500 Jahren – Vom historischen Klausenhof aus wandernd erfahren Sie Wisse
 nswertes um das Rechtsterritotiumder Burg Hanstein und die 7 Eichenstämme
  der Eichsfelder Ritterschaft. Der Burgfrieden beschreibt ein Territotium\
 , an dem sich im Mittelalter an gleichnamiges Gesetz gehalten werden musst
 e. Die Führung findet ab 15 Personen statt.
URL:https://www.naturpark-ehw.de/veranstaltungen-reader/gefuehrte-wanderung
 -um-die-burg-hanstein
DTSTART:20260515T173000
DTEND:20260515T190000
LOCATION:
END:VEVENT
BEGIN:VTIMEZONE
TZID:Europe/Berlin
BEGIN:DAYLIGHT
DTSTART:20260515T173000
TZNAME:CEST
TZOFFSETTO:+0200
TZOFFSETFROM:+0200
END:DAYLIGHT
END:VTIMEZONE
END:VCALENDAR
