BEGIN:VCALENDAR
PRODID:-//eluceo/ical//2.0/EN
VERSION:2.0
CALSCALE:GREGORIAN
BEGIN:VEVENT
UID:617f775a68e7982a8fbd64ab9c6aa013
DTSTAMP:20260422T053721Z
SUMMARY:Führung Langer Tag der Natur
DESCRIPTION:Kostenlose Projektführung durch das erste Bärenrefugium Deuts
 chlands.
URL:https://www.naturpark-ehw.de/veranstaltungen-reader/fuehrung-langer-tag
 -der-natur
DTSTART:20240608T110000
DTEND:20240608T123000
LOCATION:
END:VEVENT
BEGIN:VTIMEZONE
TZID:Europe/Berlin
BEGIN:DAYLIGHT
DTSTART:20240608T110000
TZNAME:CEST
TZOFFSETTO:+0200
TZOFFSETFROM:+0200
END:DAYLIGHT
END:VTIMEZONE
END:VCALENDAR
