BEGIN:VCALENDAR
PRODID:-//eluceo/ical//2.0/EN
VERSION:2.0
CALSCALE:GREGORIAN
BEGIN:VEVENT
UID:6ac7345adc2b8ab0b629632fa8a63731
DTSTAMP:20260420T160810Z
SUMMARY:Führung im Wurst- und Hausschlachtemuseum
DESCRIPTION:Internationaler Museumstag – Führung im Wurst- und Hausschla
 chtemuseum ( kostenfrei) mit Verkostung. Im Wurst- & Hausschlachtemuseum d
 es Klausenhofes können Sie hautnah erfahren\, wie die schmackhaften Wurst
 spezialitäten hergestellt werden.  Schlachtegeräte\, Bilder und Ausstel
 lungsstücke aus über drei Jahrhunderten vermitteln ein anschauliches Bil
 d über die Wurstherstellung.
URL:https://www.naturpark-ehw.de/veranstaltungen-reader/fuehrung-im-wurst-u
 nd-hausschlachtemuseum
DTSTART:20260517T110000
DTEND:20260517T110000
LOCATION:
END:VEVENT
BEGIN:VTIMEZONE
TZID:Europe/Berlin
BEGIN:DAYLIGHT
DTSTART:20260517T110000
TZNAME:CEST
TZOFFSETTO:+0200
TZOFFSETFROM:+0200
END:DAYLIGHT
END:VTIMEZONE
END:VCALENDAR
