BEGIN:VCALENDAR
PRODID:-//eluceo/ical//2.0/EN
VERSION:2.0
CALSCALE:GREGORIAN
BEGIN:VEVENT
UID:27c26fa36176a019bce9190f73055929
DTSTAMP:20260419T131741Z
SUMMARY:Frühlingsmarkt im ST. Johannesstift
DESCRIPTION:Heißen Sie mit uns den Frühling willkommen und finden sie ihr
 e österlichen oder frühlingshafte Lieblingsstücke in unserem Hofladen. 
 Wir eröffnen die Gärtner- und Grillsaison.
URL:https://www.naturpark-ehw.de/veranstaltungen-reader/fruehlingsmarkt-im-
 st-johannesstift
DTSTART:20240316T100000
DTEND:20240316T140000
LOCATION:Unterhof 154\, 37308 Schimberg
END:VEVENT
BEGIN:VTIMEZONE
TZID:Europe/Berlin
BEGIN:STANDARD
DTSTART:20240316T100000
TZNAME:CET
TZOFFSETTO:+0100
TZOFFSETFROM:+0100
END:STANDARD
END:VTIMEZONE
END:VCALENDAR
