BEGIN:VCALENDAR
PRODID:-//eluceo/ical//2.0/EN
VERSION:2.0
CALSCALE:GREGORIAN
BEGIN:VEVENT
UID:cd45ae41516a9a6551b5b6b87658e7dd
DTSTAMP:20260421T225959Z
SUMMARY:Fallstricke bei der Sanierung & Pflege von Fachwerkbauten
DESCRIPTION:Feierabend-Fachveranstaltung. Unsere Veranstaltungsreihe Baukul
 tur stellt in loser Folge\, in Form von Vorträgen\, Workshops oder als Ex
 kursion\, verschiedenste Themen für eine nachhaltige und regionaltypische
  Siedlungs¬entwicklung im Naturpark zur Diskussion. Alle Hausbesitzer und
  Interessierte sind eingeladen\, sich an den Feierabend-Veranstaltungen mi
 t ihren Fragen zu beteiligen!
URL:https://www.naturpark-ehw.de/veranstaltungen-reader/fallstricke-bei-der
 -sanierung-pflege-von-fachwerkbauten
DTSTART:20251103T180000
DTEND:20251103T200000
LOCATION:An der Aue 22\, Amt Creuzburg OT Mihla
END:VEVENT
BEGIN:VTIMEZONE
TZID:Europe/Berlin
BEGIN:STANDARD
DTSTART:20251103T180000
TZNAME:CET
TZOFFSETTO:+0100
TZOFFSETFROM:+0100
END:STANDARD
END:VTIMEZONE
END:VCALENDAR
