BEGIN:VCALENDAR
PRODID:-//eluceo/ical//2.0/EN
VERSION:2.0
CALSCALE:GREGORIAN
BEGIN:VEVENT
UID:40578909280ef3582c03d114597175db
DTSTAMP:20260421T225325Z
SUMMARY:Der Lenz lässt grüßen
DESCRIPTION:4 h | 6 km | mit Anmeldung bis 13.04.2024
URL:https://www.naturpark-ehw.de/veranstaltungen-reader/der-lenz-laesst-gru
 essen
DTSTART:20240427T130000
DTEND:20240427T170000
LOCATION:V-Adresse
END:VEVENT
BEGIN:VTIMEZONE
TZID:Europe/Berlin
BEGIN:DAYLIGHT
DTSTART:20240427T130000
TZNAME:CEST
TZOFFSETTO:+0200
TZOFFSETFROM:+0200
END:DAYLIGHT
END:VTIMEZONE
END:VCALENDAR
