BEGIN:VCALENDAR
PRODID:-//eluceo/ical//2.0/EN
VERSION:2.0
CALSCALE:GREGORIAN
BEGIN:VEVENT
UID:d27c7beea72843aa4941562e011f8af2
DTSTAMP:20260420T113540Z
SUMMARY:Aus der Arbeit des Gewässerunter-haltungsverbandes Leine/Frieda/Ro
 soppe
DESCRIPTION:Vortrag von Frederic Stürtzel im NABU- Naturschutzzentrum.
URL:https://www.naturpark-ehw.de/veranstaltungen-reader/aus-der-arbeit-des-
 gewaesserunter-haltungsverbandes-leine-frieda-rosoppe
DTSTART:20240313T183000
DTEND:20240313T200000
LOCATION:Im Kloster 5\,  Reifenstein
END:VEVENT
BEGIN:VTIMEZONE
TZID:Europe/Berlin
BEGIN:STANDARD
DTSTART:20240313T183000
TZNAME:CET
TZOFFSETTO:+0100
TZOFFSETFROM:+0100
END:STANDARD
END:VTIMEZONE
END:VCALENDAR
