BEGIN:VCALENDAR
PRODID:-//eluceo/ical//2.0/EN
VERSION:2.0
CALSCALE:GREGORIAN
BEGIN:VEVENT
UID:785761f3b32239808c1d6e532642a37e
DTSTAMP:20260421T230123Z
SUMMARY:Arbeitseinsatz
DESCRIPTION:Anpacken für den Tierschutz - ehrenamtliches Arbeiten im Alter
 nativen Bärenpark Worbis 
URL:https://www.naturpark-ehw.de/veranstaltungen-reader/arbeitseinsatz
DTSTART:20240413T080000
DTEND:20240413T160000
LOCATION:Straße Wiesengrund\, 37339 Worbis
END:VEVENT
BEGIN:VTIMEZONE
TZID:Europe/Berlin
BEGIN:DAYLIGHT
DTSTART:20240413T080000
TZNAME:CEST
TZOFFSETTO:+0200
TZOFFSETFROM:+0200
END:DAYLIGHT
END:VTIMEZONE
END:VCALENDAR
