BEGIN:VCALENDAR
PRODID:-//eluceo/ical//2.0/EN
VERSION:2.0
CALSCALE:GREGORIAN
BEGIN:VEVENT
UID:ba948ccf153f5a386b966faf3170fdbd
DTSTAMP:20260419T212527Z
SUMMARY:Abendrendezvous mit den Wilden Katzen
DESCRIPTION:Rundgang durch die Wildkatzenscheune und Schaufütterung der Wi
 ldkatzen bei Sonnenuntergang\, Besichtigung Luchsanlage sowie romantisches
  Lagerfeuer.
URL:https://www.naturpark-ehw.de/veranstaltungen-reader/abendrendezvous-mit
 -den-wilden-katzen-6
DTSTART:20240726T200000
DTEND:20240726T223000
LOCATION:
END:VEVENT
BEGIN:VTIMEZONE
TZID:Europe/Berlin
BEGIN:DAYLIGHT
DTSTART:20240726T200000
TZNAME:CEST
TZOFFSETTO:+0200
TZOFFSETFROM:+0200
END:DAYLIGHT
END:VTIMEZONE
END:VCALENDAR
